BEGIN:VCALENDAR
VERSION:2.0
PRODID:-//Linked in Loss - ECPv6.15.20//NONSGML v1.0//EN
CALSCALE:GREGORIAN
METHOD:PUBLISH
X-WR-CALNAME:Linked in Loss
X-ORIGINAL-URL:https://www.linkedinlossfoundation.org
X-WR-CALDESC:Events for Linked in Loss
REFRESH-INTERVAL;VALUE=DURATION:PT1H
X-Robots-Tag:noindex
X-PUBLISHED-TTL:PT1H
BEGIN:VTIMEZONE
TZID:UTC
BEGIN:STANDARD
TZOFFSETFROM:+0000
TZOFFSETTO:+0000
TZNAME:UTC
DTSTART:20180101T000000
END:STANDARD
END:VTIMEZONE
BEGIN:VEVENT
DTSTART;VALUE=DATE:20191015
DTEND;VALUE=DATE:20191016
DTSTAMP:20260423T151440
CREATED:20191002T191216Z
LAST-MODIFIED:20191002T191216Z
UID:148-1571097600-1571183999@www.linkedinlossfoundation.org
SUMMARY:National Pregnancy & Infant Loss Remembrance Day
DESCRIPTION:
URL:https://www.linkedinlossfoundation.org/event/national-pregnancy-infant-loss-remembrance-day/
END:VEVENT
END:VCALENDAR